BEGIN:VCALENDAR
VERSION:2.0
PRODID:-//Tukios.com/
BEGIN:VEVENT
UID:0944189b-496f-4e99-93ce-2b9e528df5d0@www.hawkinsfamilyfuneralhome.com
DTSTAMP:20260420T233358Z
DTSTART:20260424T220000Z
DTEND:20260425T010000Z
SUMMARY:Visitation
DESCRIPTION:
URL:https://www.hawkinsfamilyfuneralhome.com/obituaries/theresa-owens-oliveros
LOCATION: 2711 Jacksboro Highway  Ft. Worth TX 76114
GEO:32.7892111;-97.3886042
END:VEVENT
END:VCALENDAR