BEGIN:VCALENDAR
VERSION:2.0
PRODID:-//Tukios.com/
BEGIN:VEVENT
UID:2b6154cb-828c-4fa0-a276-1687fa34f652@www.hawkinsfamilyfuneralhome.com
DTSTAMP:20260420T220241Z
DTSTART:20260423T220000Z
DTEND:20260424T010000Z
SUMMARY:Visitation
DESCRIPTION:
URL:https://www.hawkinsfamilyfuneralhome.com/obituaries/naomi-martinez-valdez
LOCATION: 2711 Jacksboro Highway  Ft. Worth TX 76114
GEO:32.7892111;-97.3886042
END:VEVENT
END:VCALENDAR